BEGIN:VCALENDAR
VERSION:2.0
PRODID:iCalendar-Evo
X-WR-TIMEZONE:US/Eastern
BEGIN:VEVENT
DTSTAMP:20260421THI4144Z
URL:https://www.townofdeweybeach.gov/events/43413/
DTSTART;TZID=US/Eastern:20260421T170000
SUMMARY:Planning & Zoning Commission Public Hearing & Meeting
DESCRIPTION:Join Us Virtually: Watch on YouTube Join the Meeting to Comment If you're unable to join virtually, but wish to submit comments for review by committee/council members, email us here. 
LOCATION:Dewey Beach Life Saving Station at 1 Dagsworthy Ave, Dewey Beach, Delaware 19971
GEO:38.694234758261985;-75.073083339515
UID:f597d7aa-31a7-4f9b-a540-427bf494940c20260421T210000@www.townofdeweybeach.gov
END:VEVENT
END:VCALENDAR